BEGIN:VCALENDAR
VERSION:2.0
PRODID:-//Site de la commune de Cravans - ECPv4.9.2//NONSGML v1.0//EN
CALSCALE:GREGORIAN
METHOD:PUBLISH
X-WR-CALNAME:Site de la commune de Cravans
X-ORIGINAL-URL:https://www.cravans.fr
X-WR-CALDESC:Évènements pour Site de la commune de Cravans
BEGIN:VEVENT
DTSTART;TZID=Europe/Paris:20260105T080000
DTEND;TZID=Europe/Paris:20260105T170000
DTSTAMP:20260421T153848
CREATED:20260105T143616Z
LAST-MODIFIED:20260105T143616Z
UID:7349-1767600000-1767632400@www.cravans.fr
SUMMARY:Randonnée pédestre le 08/01/2026- RDV 14H place de l'Eglise CRAVANS
DESCRIPTION:
URL:https://www.cravans.fr/evenement/randonnee-pedestre-le-08-01-2026-rdv-14h-place-de-leglise-cravans/
END:VEVENT
END:VCALENDAR