BEGIN:VCALENDAR
VERSION:2.0
PRODID:-//Site de la commune de Cravans - ECPv4.9.2//NONSGML v1.0//EN
CALSCALE:GREGORIAN
METHOD:PUBLISH
X-WR-CALNAME:Site de la commune de Cravans
X-ORIGINAL-URL:https://www.cravans.fr
X-WR-CALDESC:Évènements pour Site de la commune de Cravans
BEGIN:VEVENT
DTSTART;TZID=Europe/Paris:20260107T184500
DTEND;TZID=Europe/Paris:20260107T230000
DTSTAMP:20260421T154551
CREATED:20251223T134130Z
LAST-MODIFIED:20251223T134130Z
UID:7343-1767811500-1767826800@www.cravans.fr
SUMMARY:Réunion Conseil municipal le 07/01/2026 à 18h45
DESCRIPTION:
URL:https://www.cravans.fr/evenement/reunion-conseil-municipal-le-07-01-2026-a-18h45/
END:VEVENT
END:VCALENDAR