BEGIN:VCALENDAR
VERSION:2.0
PRODID:-//Site de la commune de Cravans - ECPv4.9.2//NONSGML v1.0//EN
CALSCALE:GREGORIAN
METHOD:PUBLISH
X-WR-CALNAME:Site de la commune de Cravans
X-ORIGINAL-URL:https://www.cravans.fr
X-WR-CALDESC:Évènements pour Site de la commune de Cravans
BEGIN:VEVENT
DTSTART;TZID=Europe/Paris:20260118T090000
DTEND;TZID=Europe/Paris:20260118T233000
DTSTAMP:20260421T153936
CREATED:20260116T131253Z
LAST-MODIFIED:20260116T131253Z
UID:7358-1768726800-1768779000@www.cravans.fr
SUMMARY:Dimanche 18/01/2026 à 9h - Vin chaud sous la Halle
DESCRIPTION:
URL:https://www.cravans.fr/evenement/dimanche-18-01-2026-a-9h-vin-chaud-sous-la-halle/
END:VEVENT
END:VCALENDAR