BEGIN:VCALENDAR
VERSION:2.0
PRODID:-//Site de la commune de Cravans - ECPv4.9.2//NONSGML v1.0//EN
CALSCALE:GREGORIAN
METHOD:PUBLISH
X-WR-CALNAME:Site de la commune de Cravans
X-ORIGINAL-URL:https://www.cravans.fr
X-WR-CALDESC:Évènements pour Site de la commune de Cravans
BEGIN:VEVENT
DTSTART;TZID=Europe/Paris:20260205T184500
DTEND;TZID=Europe/Paris:20260205T233000
DTSTAMP:20260421T141200
CREATED:20260129T163930Z
LAST-MODIFIED:20260129T163949Z
UID:7375-1770317100-1770334200@www.cravans.fr
SUMMARY:Conseil Municipal le 05/02/2026 à 18h45
DESCRIPTION:
URL:https://www.cravans.fr/evenement/conseil-municipal-le-05-02-206-a-18h45/
END:VEVENT
END:VCALENDAR