BEGIN:VCALENDAR
VERSION:2.0
PRODID:-//Site de la commune de Cravans - ECPv4.9.2//NONSGML v1.0//EN
CALSCALE:GREGORIAN
METHOD:PUBLISH
X-WR-CALNAME:Site de la commune de Cravans
X-ORIGINAL-URL:https://www.cravans.fr
X-WR-CALDESC:Évènements pour Site de la commune de Cravans
BEGIN:VEVENT
DTSTART;TZID=Europe/Paris:20260220T190000
DTEND;TZID=Europe/Paris:20260220T233000
DTSTAMP:20260421T141121
CREATED:20260217T162734Z
LAST-MODIFIED:20260217T162829Z
UID:7405-1771614000-1771630200@www.cravans.fr
SUMMARY:Conférence le 20/02/2026 à 19H - Salle des Associations
DESCRIPTION:Un chemin pour apprivoiser son comportement et mieux comprendre les autres \n  \n
URL:https://www.cravans.fr/evenement/conference-le-20-02-2026-a-19h-salle-des-associations/
ATTACH;FMTTYPE=image/jpeg:https://www.cravans.fr/wp-content/uploads/2026/02/conference-d-affaires-reunion-d-affaires-les-gens-d-affaires-dans-le-secteur-formel-j57bwk.jpg
END:VEVENT
END:VCALENDAR