BEGIN:VCALENDAR
VERSION:2.0
PRODID:-//Site de la commune de Cravans - ECPv4.9.2//NONSGML v1.0//EN
CALSCALE:GREGORIAN
METHOD:PUBLISH
X-WR-CALNAME:Site de la commune de Cravans
X-ORIGINAL-URL:https://www.cravans.fr
X-WR-CALDESC:Évènements pour Site de la commune de Cravans
BEGIN:VEVENT
DTSTART;TZID=Europe/Paris:20260305T184500
DTEND;TZID=Europe/Paris:20260305T233000
DTSTAMP:20260421T123703
CREATED:20260227T134803Z
LAST-MODIFIED:20260227T134803Z
UID:7415-1772736300-1772753400@www.cravans.fr
SUMMARY:Réunion Conseil Municipal le 05/03/2026 à 18h45
DESCRIPTION:
URL:https://www.cravans.fr/evenement/reunion-conseil-municipal-le-05-03-2026-a-18h45/
END:VEVENT
END:VCALENDAR