BEGIN:VCALENDAR
VERSION:2.0
PRODID:-//Site de la commune de Cravans - ECPv4.9.2//NONSGML v1.0//EN
CALSCALE:GREGORIAN
METHOD:PUBLISH
X-WR-CALNAME:Site de la commune de Cravans
X-ORIGINAL-URL:https://www.cravans.fr
X-WR-CALDESC:Évènements pour Site de la commune de Cravans
BEGIN:VEVENT
DTSTART;TZID=Europe/Paris:20260320T190000
DTEND;TZID=Europe/Paris:20260320T230000
DTSTAMP:20260423T095404
CREATED:20260312T150204Z
LAST-MODIFIED:20260312T150257Z
UID:7437-1774033200-1774047600@www.cravans.fr
SUMMARY:20/03/2026 à 19h-Conférence Salle Association "Regards sur la santé de nos forêts"
DESCRIPTION:
URL:https://www.cravans.fr/evenement/20-03-2026-conference-regards-sur-la-sante-de-nos-forets/
END:VEVENT
BEGIN:VEVENT
DTSTART;TZID=Europe/Paris:20260320T190000
DTEND;TZID=Europe/Paris:20260320T233000
DTSTAMP:20260423T095404
CREATED:20260316T133003Z
LAST-MODIFIED:20260316T133003Z
UID:7446-1774033200-1774049400@www.cravans.fr
SUMMARY:Le 20/03/2026 à 19 heures : Réunion Conseil Municipal
DESCRIPTION:
URL:https://www.cravans.fr/evenement/le-20-03-2026-a-19-heures-reunion-conseil-municipal/
END:VEVENT
END:VCALENDAR