BEGIN:VCALENDAR
VERSION:2.0
PRODID:-//Site de la commune de Cravans - ECPv4.9.2//NONSGML v1.0//EN
CALSCALE:GREGORIAN
METHOD:PUBLISH
X-WR-CALNAME:Site de la commune de Cravans
X-ORIGINAL-URL:https://www.cravans.fr
X-WR-CALDESC:Évènements pour Site de la commune de Cravans
BEGIN:VEVENT
DTSTART;TZID=Europe/Paris:20260411T200000
DTEND;TZID=Europe/Paris:20260411T233000
DTSTAMP:20260421T112215
CREATED:20260303T142928Z
LAST-MODIFIED:20260303T143130Z
UID:7420-1775937600-1775950200@www.cravans.fr
SUMMARY:11 avril 2026 : Soirée Années 80 -20 heures
DESCRIPTION:
URL:https://www.cravans.fr/evenement/samedi-11-avril-2026-soiree-annees-80-a-partir-de-20-heures/
END:VEVENT
END:VCALENDAR