BEGIN:VCALENDAR
VERSION:2.0
PRODID:-//Site de la commune de Cravans - ECPv4.9.2//NONSGML v1.0//EN
CALSCALE:GREGORIAN
METHOD:PUBLISH
X-WR-CALNAME:Site de la commune de Cravans
X-ORIGINAL-URL:https://www.cravans.fr
X-WR-CALDESC:Évènements pour Site de la commune de Cravans
BEGIN:VEVENT
DTSTART;TZID=Europe/Paris:20260420T080000
DTEND;TZID=Europe/Paris:20260420T170000
DTSTAMP:20260420T161217
CREATED:20260420T130032Z
LAST-MODIFIED:20260420T130032Z
UID:7461-1776672000-1776704400@www.cravans.fr
SUMMARY:Le 23 Avril 2026 à 18h45 : Réunion Conseil Municipal
DESCRIPTION:
URL:https://www.cravans.fr/evenement/le-23-avril-2026-a-18h45-reunion-conseil-municipal/
ATTACH;FMTTYPE=image/jpeg:https://www.cravans.fr/wp-content/uploads/2019/11/Image-réunion.jpg
END:VEVENT
END:VCALENDAR